BEGIN:VCALENDAR
VERSION:2.0
PRODID:-//mWEB//NONSGML mWEB//NB
URL:https://www.credofrikirke.no/kalender/ics
X-WR-CALNAME:Credo Frikirke
REFRESH-INTERVAL;VALUE=DURATION:PT6H
X-PUBLISHED-TTL:PT6H    
CALSCALE:GREGORIAN
BEGIN:VEVENT
UID:credofrikirke.no-2290
DTSTAMP:20260421T100622Z
DTSTART:20260602T080000Z
DTEND:20260602T100000Z
URL:https://www.credofrikirke.no/kalender/2026/06/02/bibelbonn-med-lunsj/2290/
CREATED:20260108T170425Z
LAST-MODIFIED:20260108T170425Z
SUMMARY:Bibelbønn med lunsj
DESCRIPTION:Hver tirsdag ønsker vi velkommen til Bibelbønn kombinert med medbrakt lunsj. Her blir det lovsang\, bibelbønn og bønn for alle bønnebehovene som vi henter fra bønnekassen. Formiddagen avsluttes med mat og prat. Lunsjen og bønnen er åpen for alle. Hus...\n\nhttps://www.credofrikirke.no/kalender/2026/06/02/bibelbonn-med-lunsj/2290/
END:VEVENT

END:VCALENDAR