BEGIN:VCALENDAR
VERSION:2.0
PRODID:-//mWEB//NONSGML mWEB//NB
URL:https://www.credofrikirke.no/kalender/ics
X-WR-CALNAME:Credo Frikirke
REFRESH-INTERVAL;VALUE=DURATION:PT6H
X-PUBLISHED-TTL:PT6H    
CALSCALE:GREGORIAN
BEGIN:VEVENT
UID:credofrikirke.no-2329
DTSTAMP:20260423T095217Z
DTSTART:20260524T090000Z
DTEND:20260524T110000Z
URL:https://www.credofrikirke.no/kalender/2026/05/24/halleluja-det-er-pinse/2329/
CREATED:20260415T114920Z
LAST-MODIFIED:20260415T114920Z
SUMMARY:Halleluja\, det er PINSE
DESCRIPTION:Velkommen til å feire PINSE i Credo.\nTema for dagen: Stå sammen\, gå sammen\n\nTale: Bjørn Jellestad\n\nhttps://www.credofrikirke.no/kalender/2026/05/24/halleluja-det-er-pinse/2329/
END:VEVENT

END:VCALENDAR