BEGIN:VCALENDAR
VERSION:2.0
PRODID:-//mWEB//NONSGML mWEB//NB
URL:https://www.credofrikirke.no/kalender/ics
X-WR-CALNAME:Credo Frikirke
REFRESH-INTERVAL;VALUE=DURATION:PT6H
X-PUBLISHED-TTL:PT6H    
CALSCALE:GREGORIAN
BEGIN:VEVENT
UID:credofrikirke.no-2328
DTSTAMP:20260423T100452Z
DTSTART:20260517T090000Z
DTEND:20260517T110000Z
URL:https://www.credofrikirke.no/kalender/2026/05/17/ingen-gudstjeneste/2328/
CREATED:20260415T114759Z
LAST-MODIFIED:20260415T114759Z
SUMMARY:Ingen gudstjeneste
DESCRIPTION:Siden mange tar del i 17. maiferingen i Midtbyen eller der vi bor\, blir det ingen egen 17.mai gudstjeneste i Credo idag.\n\nhttps://www.credofrikirke.no/kalender/2026/05/17/ingen-gudstjeneste/2328/
END:VEVENT

END:VCALENDAR