BEGIN:VCALENDAR
VERSION:2.0
PRODID:-//mWEB//NONSGML mWEB//NB
URL:https://www.credofrikirke.no/kalender/ics
X-WR-CALNAME:Credo Frikirke
REFRESH-INTERVAL;VALUE=DURATION:PT6H
X-PUBLISHED-TTL:PT6H    
CALSCALE:GREGORIAN
BEGIN:VEVENT
UID:credofrikirke.no-2327
DTSTAMP:20260421T124058Z
DTSTART:20260514T090000Z
DTEND:20260514T120000Z
URL:https://www.credofrikirke.no/kalender/2026/05/14/kristi-himmelfartsfeiring/2327/
CREATED:20260415T114628Z
LAST-MODIFIED:20260415T114628Z
SUMMARY:Kristi Himmelfartsfeiring
DESCRIPTION:Velkommen til friluftssøndag og en enkel friluftsgudstjeneste på Tiller. \nMer info kommer. \n\nhttps://www.credofrikirke.no/kalender/2026/05/14/kristi-himmelfartsfeiring/2327/
END:VEVENT

END:VCALENDAR