BEGIN:VCALENDAR
VERSION:2.0
PRODID:-//mWEB//NONSGML mWEB//NB
URL:https://www.credofrikirke.no/kalender/ics
X-WR-CALNAME:Credo Frikirke
REFRESH-INTERVAL;VALUE=DURATION:PT6H
X-PUBLISHED-TTL:PT6H    
CALSCALE:GREGORIAN
BEGIN:VEVENT
UID:credofrikirke.no-2326
DTSTAMP:20260423T095232Z
DTSTART:20260510T090000Z
DTEND:20260510T110000Z
URL:https://www.credofrikirke.no/kalender/2026/05/10/gudstjeneste-med-nattverd/2326/
CREATED:20260415T114509Z
LAST-MODIFIED:20260415T114509Z
SUMMARY:Gudstjeneste med nattverd
DESCRIPTION:Tema: Jeg vil gi dere nye hjerter\n\nTale: Bjørn Jellestad\n\nhttps://www.credofrikirke.no/kalender/2026/05/10/gudstjeneste-med-nattverd/2326/
END:VEVENT

END:VCALENDAR