BEGIN:VCALENDAR
VERSION:2.0
PRODID:-//mWEB//NONSGML mWEB//NB
URL:https://www.credofrikirke.no/kalender/ics
X-WR-CALNAME:Credo Frikirke
REFRESH-INTERVAL;VALUE=DURATION:PT6H
X-PUBLISHED-TTL:PT6H    
CALSCALE:GREGORIAN
BEGIN:VEVENT
UID:credofrikirke.no-2336
DTSTAMP:20260425T113645Z
DTSTART:20260425T080000Z
DTEND:20260425T120000Z
URL:https://www.credofrikirke.no/kalender/2026/04/25/vardugnad/2336/
CREATED:20260424T134958Z
LAST-MODIFIED:20260424T134958Z
SUMMARY:Vårdugnad
DESCRIPTION:Velkommen til vårdugnad i Credo\n\n\n\nhttps://www.credofrikirke.no/kalender/2026/04/25/vardugnad/2336/
END:VEVENT

END:VCALENDAR