BEGIN:VCALENDAR
VERSION:2.0
PRODID:-//mWEB//NONSGML mWEB//NB
URL:https://www.credofrikirke.no/kalender/ics
X-WR-CALNAME:Credo Frikirke
REFRESH-INTERVAL;VALUE=DURATION:PT6H
X-PUBLISHED-TTL:PT6H    
CALSCALE:GREGORIAN
BEGIN:VEVENT
UID:credofrikirke.no-2318
DTSTAMP:20260421T084345Z
DTSTART:20260307T083000Z
DTEND:20260307T153000Z
URL:https://www.credofrikirke.no/kalender/2026/03/07/al-massira/2318/
CREATED:20260206T124202Z
LAST-MODIFIED:20260206T124202Z
SUMMARY:Al Massira
DESCRIPTION:Velkommen til Al Massira-trening i Credo.\n\nhttps://www.credofrikirke.no/kalender/2026/03/07/al-massira/2318/
END:VEVENT

END:VCALENDAR