BEGIN:VCALENDAR
VERSION:2.0
PRODID:-//mWEB//NONSGML mWEB//NB
URL:https://www.credofrikirke.no/kalender/ics
X-WR-CALNAME:Credo Frikirke
REFRESH-INTERVAL;VALUE=DURATION:PT6H
X-PUBLISHED-TTL:PT6H    
CALSCALE:GREGORIAN
BEGIN:VEVENT
UID:credofrikirke.no-2299
DTSTAMP:20260421T084732Z
DTSTART:20260302T190000Z
DTEND:20260302T193000Z
URL:https://www.credofrikirke.no/kalender/2026/03/02/mandagsbibel/2299/
CREATED:20260119T221248Z
LAST-MODIFIED:20260119T221248Z
SUMMARY:Mandagsbibel
DESCRIPTION:Bli med å les Bibelen på mandager fra kl.20.00\n\nVi møtes på Whereby:https://whereby.com/bønnab \n\n\n\nhttps://www.credofrikirke.no/kalender/2026/03/02/mandagsbibel/2299/
END:VEVENT

END:VCALENDAR