BEGIN:VCALENDAR
VERSION:2.0
PRODID:-//mWEB//NONSGML mWEB//NB
URL:https://www.credofrikirke.no/kalender/ics
X-WR-CALNAME:Credo Frikirke
REFRESH-INTERVAL;VALUE=DURATION:PT6H
X-PUBLISHED-TTL:PT6H    
CALSCALE:GREGORIAN
BEGIN:VEVENT
UID:credofrikirke.no-2265
DTSTAMP:20260421T084544Z
DTSTART:20260301T100000Z
DTEND:20260301T120000Z
URL:https://www.credofrikirke.no/kalender/2026/03/01/frokost-og-familiegudstjeneste/2265/
CREATED:20260108T162810Z
LAST-MODIFIED:20260108T162810Z
SUMMARY:Frokost- og familiegudstjeneste
DESCRIPTION:Velkommen til FROKOST- OG FAMILIEGUDSTJENESTE i regi av Søndagskolen i Credo. Her blir det sang av og med barn\, andakt\, fortelling\, drama\, lek og mye mer.\nMen husk at vi starter med spleisemåltid.\n\nDet er fint om alle tar med ferdig mat på fat...\n\nhttps://www.credofrikirke.no/kalender/2026/03/01/frokost-og-familiegudstjeneste/2265/
END:VEVENT

END:VCALENDAR