BEGIN:VCALENDAR
VERSION:2.0
PRODID:-//mWEB//NONSGML mWEB//NB
URL:https://www.credofrikirke.no/kalender/ics
X-WR-CALNAME:Credo Frikirke
REFRESH-INTERVAL;VALUE=DURATION:PT6H
X-PUBLISHED-TTL:PT6H    
CALSCALE:GREGORIAN
BEGIN:VEVENT
UID:credofrikirke.no-2160
DTSTAMP:20260423T143850Z
DTSTART:20251231T170000Z
DTEND:20251231T221500Z
URL:https://www.credofrikirke.no/kalender/2025/12/31/nyttarsfest-i-credo/2160/
CREATED:20251223T153406Z
LAST-MODIFIED:20251223T153406Z
SUMMARY:Nyttårsfest i Credo
DESCRIPTION:Nyttårsaften inviterer vi til spleisefest i Credo kl.18.00 og frem til ca 23.15\n\nVi ber alle om å ta med seg varm eller kald mat + noe til dessert eller kaffen.\n\nDette er en flott måte å gå ut av 2025 og inn i det nye året på. \n\nNyttårsfesten e...\n\nhttps://www.credofrikirke.no/kalender/2025/12/31/nyttarsfest-i-credo/2160/
END:VEVENT

END:VCALENDAR