BEGIN:VCALENDAR
VERSION:2.0
PRODID:-//mWEB//NONSGML mWEB//NB
URL:https://www.credofrikirke.no/kalender/ics
X-WR-CALNAME:Credo Frikirke
REFRESH-INTERVAL;VALUE=DURATION:PT6H
X-PUBLISHED-TTL:PT6H    
CALSCALE:GREGORIAN
BEGIN:VEVENT
UID:credofrikirke.no-2159
DTSTAMP:20260423T144433Z
DTSTART:20251228T100000Z
DTEND:20251228T140000Z
URL:https://www.credofrikirke.no/kalender/2025/12/28/romjulsgudstjeneste/2159/
CREATED:20251223T152955Z
LAST-MODIFIED:20251223T152955Z
SUMMARY:Romjulsgudstjeneste
DESCRIPTION:Velkommen til romjulsgudstjeneste med påfølgende juletrefest.\n\nVi starter med en enkel og familievennlig gudstjenste\, før vi deler julemat og går over til juletrefesten. Her blir det både oppdtredener\, lek\, Kahoot og juletregang\, før vi avslutt...\n\nhttps://www.credofrikirke.no/kalender/2025/12/28/romjulsgudstjeneste/2159/
END:VEVENT

END:VCALENDAR