BEGIN:VCALENDAR
VERSION:2.0
PRODID:-//mWEB//NONSGML mWEB//NB
URL:https://www.credofrikirke.no/kalender/ics
X-WR-CALNAME:Credo Frikirke
REFRESH-INTERVAL;VALUE=DURATION:PT6H
X-PUBLISHED-TTL:PT6H    
CALSCALE:GREGORIAN
BEGIN:VEVENT
UID:credofrikirke.no-2142
DTSTAMP:20260423T143026Z
DTSTART:20251214T100000Z
DTEND:20251214T120000Z
URL:https://www.credofrikirke.no/kalender/2025/12/14/gudstjeneste/2142/
CREATED:20250812T141401Z
LAST-MODIFIED:20251223T154526Z
SUMMARY:Gudstjeneste
DESCRIPTION:Velkommen til gudstjeneste i Credo.\n\nVi feirer gudstjeneste hver eneste søndag kl.11.00 i 2.etasje i Ole L. Kolstadsvei 2 på Heimdal. \nDu finner oss som nærmeste nabo til Cirkle K og Bunnpris. Det tar bare 2-3 minutter å gå fra Heimdal busstasjon ...\n\nhttps://www.credofrikirke.no/kalender/2025/12/14/gudstjeneste/2142/
END:VEVENT

END:VCALENDAR