BEGIN:VCALENDAR
VERSION:2.0
PRODID:-//mWEB//NONSGML mWEB//NB
URL:https://www.credofrikirke.no/kalender/ics
X-WR-CALNAME:Credo Frikirke
REFRESH-INTERVAL;VALUE=DURATION:PT6H
X-PUBLISHED-TTL:PT6H    
CALSCALE:GREGORIAN
BEGIN:VEVENT
UID:credofrikirke.no-2153
DTSTAMP:20260423T144745Z
DTSTART:20251204T180000Z
DTEND:20251204T201500Z
URL:https://www.credofrikirke.no/kalender/2025/12/04/alphakveld-10-hva-med-menigheten/2153/
CREATED:20250919T091001Z
LAST-MODIFIED:20250919T091537Z
SUMMARY:ALPHAkveld 10: Hva med menigheten?
DESCRIPTION:Velkommen til kveld 10 av høstens Alpha. \n\nKveldens tema: HVA MED MENIGHETEN?\nBønn er både spennende\, utfordrende og kanskje litt nytt på samme tid.\n\nAlphakurset er en utrolig flott måte å utforske livets viktigste spørsmål i fellesskap med and...\n\nhttps://www.credofrikirke.no/kalender/2025/12/04/alphakveld-10-hva-med-menigheten/2153/
END:VEVENT

END:VCALENDAR