BEGIN:VCALENDAR
VERSION:2.0
PRODID:-//mWEB//NONSGML mWEB//NB
URL:https://www.credofrikirke.no/kalender/ics
X-WR-CALNAME:Credo Frikirke
REFRESH-INTERVAL;VALUE=DURATION:PT6H
X-PUBLISHED-TTL:PT6H    
CALSCALE:GREGORIAN
BEGIN:VEVENT
UID:credofrikirke.no-2140
DTSTAMP:20260423T163008Z
DTSTART:20251130T100000Z
DTEND:20251130T120000Z
URL:https://www.credofrikirke.no/kalender/2025/11/30/gudstjeneste/2140/
CREATED:20250812T141252Z
LAST-MODIFIED:20251125T135417Z
SUMMARY:Gudstjeneste
DESCRIPTION:Velkommen til adventsgudstjeneste i Pinsekirken\n\nDenne gudstjenesten er et samarbeid mellom Pinsekirken på Heimdal\, Credo Frikirke og Heimdal Friskole. Her blir det innslag fra både store og små. Velkommen til fellesgudstjeneste.\nHvis noen trenge...\n\nhttps://www.credofrikirke.no/kalender/2025/11/30/gudstjeneste/2140/
LOCATION:Pinsekirken Heimdal
END:VEVENT

END:VCALENDAR