BEGIN:VCALENDAR
VERSION:2.0
PRODID:-//mWEB//NONSGML mWEB//NB
URL:https://www.credofrikirke.no/kalender/ics
X-WR-CALNAME:Credo Frikirke
REFRESH-INTERVAL;VALUE=DURATION:PT6H
X-PUBLISHED-TTL:PT6H    
CALSCALE:GREGORIAN
BEGIN:VEVENT
UID:credofrikirke.no-2146
DTSTAMP:20260423T162840Z
DTSTART:20251129T100000Z
DTEND:20251129T133000Z
URL:https://www.credofrikirke.no/kalender/2025/11/29/balpanne/2146/
CREATED:20250917T150447Z
LAST-MODIFIED:20250917T150447Z
SUMMARY:Bålpanne
DESCRIPTION:Velkommen til årets siste bålpanne ved inngangen til adventstiden.\n\nOppmøte kl.11 for briefing\, rigging og bønn.\n\nhttps://www.credofrikirke.no/kalender/2025/11/29/balpanne/2146/
LOCATION:Credohjørnet
END:VEVENT

END:VCALENDAR