BEGIN:VCALENDAR
VERSION:2.0
PRODID:-//mWEB//NONSGML mWEB//NB
URL:https://www.credofrikirke.no/kalender/ics
X-WR-CALNAME:Credo Frikirke
REFRESH-INTERVAL;VALUE=DURATION:PT6H
X-PUBLISHED-TTL:PT6H    
CALSCALE:GREGORIAN
BEGIN:VEVENT
UID:credofrikirke.no-2151
DTSTAMP:20260423T162950Z
DTSTART:20251127T180000Z
DTEND:20251127T201500Z
URL:https://www.credofrikirke.no/kalender/2025/11/27/alphakveld-9-hvordan-fortelle-andre/2151/
CREATED:20250919T090434Z
LAST-MODIFIED:20250919T090434Z
SUMMARY:AlphAkveld 9: Hvordan fortelle andre?
DESCRIPTION:Velkommen til kveld 9 av høstens Alpha. \n\nKveldens tema: HVORDAN FORTELLE ANDRE?\nBønn er både spennende\, utfordrende og kanskje litt nytt på samme tid.\n\nAlphakurset er en utrolig flott måte å utforske livets viktigste spørsmål i fellesskap med ...\n\nhttps://www.credofrikirke.no/kalender/2025/11/27/alphakveld-9-hvordan-fortelle-andre/2151/
END:VEVENT

END:VCALENDAR