BEGIN:VCALENDAR
VERSION:2.0
PRODID:-//mWEB//NONSGML mWEB//NB
URL:https://www.credofrikirke.no/kalender/ics
X-WR-CALNAME:Credo Frikirke
REFRESH-INTERVAL;VALUE=DURATION:PT6H
X-PUBLISHED-TTL:PT6H    
CALSCALE:GREGORIAN
BEGIN:VEVENT
UID:credofrikirke.no-2132
DTSTAMP:20260423T162339Z
DTSTART:20251125T090000Z
DTEND:20251125T110000Z
URL:https://www.credofrikirke.no/kalender/2025/11/25/bibelbonn-med-lunsj/2132/
CREATED:20250812T140521Z
LAST-MODIFIED:20250812T140521Z
SUMMARY:Bibelbønn med lunsj
DESCRIPTION:Hver tirsdag ønsker vi velkommen til Bibelbønn kombinert med medbrakt lunsj. Her blir det lovsang\, bibelbønn og bønn for alle bønnebehovene som vi henter fra bønnekassen. Formiddagen avsluttes med mat og prat. Lunsjen og bønnen er åpen for alle. Hus...\n\nhttps://www.credofrikirke.no/kalender/2025/11/25/bibelbonn-med-lunsj/2132/
END:VEVENT

END:VCALENDAR