BEGIN:VCALENDAR
VERSION:2.0
PRODID:-//mWEB//NONSGML mWEB//NB
URL:https://www.credofrikirke.no/kalender/ics
X-WR-CALNAME:Credo Frikirke
REFRESH-INTERVAL;VALUE=DURATION:PT6H
X-PUBLISHED-TTL:PT6H    
CALSCALE:GREGORIAN
BEGIN:VEVENT
UID:credofrikirke.no-2139
DTSTAMP:20260423T162456Z
DTSTART:20251123T100000Z
DTEND:20251123T120000Z
URL:https://www.credofrikirke.no/kalender/2025/11/23/gudstjeneste/2139/
CREATED:20250812T141151Z
LAST-MODIFIED:20251125T135204Z
SUMMARY:Gudstjeneste
DESCRIPTION:Tema: Ka mumler du på\nTale: Elling Vestbøstad\n\nVelkommen til gudstjeneste i Credo.\n\nVi feirer gudstjeneste hver eneste søndag kl.11.00 i 2.etasje i Ole L. Kolstadsvei 2 på Heimdal. \nDu finner oss som nærmeste nabo til Cirkle K og Bunnpris. Det ...\n\nhttps://www.credofrikirke.no/kalender/2025/11/23/gudstjeneste/2139/
END:VEVENT

END:VCALENDAR