BEGIN:VCALENDAR
VERSION:2.0
PRODID:-//mWEB//NONSGML mWEB//NB
URL:https://www.credofrikirke.no/kalender/ics
X-WR-CALNAME:Credo Frikirke
REFRESH-INTERVAL;VALUE=DURATION:PT6H
X-PUBLISHED-TTL:PT6H    
CALSCALE:GREGORIAN
BEGIN:VEVENT
UID:credofrikirke.no-2107
DTSTAMP:20260423T163116Z
DTSTART:20251120T080000Z
DTEND:20251120T090000Z
URL:https://www.credofrikirke.no/kalender/2025/11/20/bibelbonn-pa-whereby/2107/
CREATED:20250812T134429Z
LAST-MODIFIED:20250812T140358Z
SUMMARY:Bibelbønn på Whereby
DESCRIPTION:Velkommen til bibelbønn på Whereby fra kl. 9 til 10. Bibelbønn er en enkel og givende bønneform der vi slår sammen bibellesning med bønn. Vi leser gjerne bibelbøker i sin helhet\, samtidig som vi takker og ber ut fra teksten vi leser. Du kan logge de...\n\nhttps://www.credofrikirke.no/kalender/2025/11/20/bibelbonn-pa-whereby/2107/
END:VEVENT

END:VCALENDAR