BEGIN:VCALENDAR
VERSION:2.0
PRODID:-//mWEB//NONSGML mWEB//NB
URL:https://www.credofrikirke.no/kalender/ics
X-WR-CALNAME:Credo Frikirke
REFRESH-INTERVAL;VALUE=DURATION:PT6H
X-PUBLISHED-TTL:PT6H    
CALSCALE:GREGORIAN
BEGIN:VEVENT
UID:credofrikirke.no-2150
DTSTAMP:20260423T162339Z
DTSTART:20251120T180000Z
DTEND:20251120T201500Z
URL:https://www.credofrikirke.no/kalender/2025/11/20/alphakveld-8-helbreder-gud-idag/2150/
CREATED:20250919T090257Z
LAST-MODIFIED:20250919T090257Z
SUMMARY:ALPHAkveld 8: Helbreder Gud idag?
DESCRIPTION:Velkommen til kveld 8 av høstens Alpha. \n\nKveldens tema: HVORFOR OG HVORDAN LESE BIBELEN?\nBønn er både spennende\, utfordrende og kanskje litt nytt på samme tid.\n\nAlphakurset er en utrolig flott måte å utforske livets viktigste spørsmål i felles...\n\nhttps://www.credofrikirke.no/kalender/2025/11/20/alphakveld-8-helbreder-gud-idag/2150/
END:VEVENT

END:VCALENDAR