BEGIN:VCALENDAR
VERSION:2.0
PRODID:-//mWEB//NONSGML mWEB//NB
URL:https://www.credofrikirke.no/kalender/ics
X-WR-CALNAME:Credo Frikirke
REFRESH-INTERVAL;VALUE=DURATION:PT6H
X-PUBLISHED-TTL:PT6H    
CALSCALE:GREGORIAN
BEGIN:VEVENT
UID:credofrikirke.no-2149
DTSTAMP:20260423T161637Z
DTSTART:20251113T180000Z
DTEND:20251113T201500Z
URL:https://www.credofrikirke.no/kalender/2025/11/13/alphakveld-7-hvordan-sta-imot-det-onde/2149/
CREATED:20250919T090127Z
LAST-MODIFIED:20250919T090127Z
SUMMARY:ALPHAkveld 7: Hvordan stå imot det onde?
DESCRIPTION:Velkommen til kveld 7 av høstens Alpha. \n\nKveldens tema: HVORDAN STÅ IMOT DET ONDE?\nBønn er både spennende\, utfordrende og kanskje litt nytt på samme tid.\n\nAlphakurset er en utrolig flott måte å utforske livets viktigste spørsmål i fellesskap m...\n\nhttps://www.credofrikirke.no/kalender/2025/11/13/alphakveld-7-hvordan-sta-imot-det-onde/2149/
END:VEVENT

END:VCALENDAR