BEGIN:VCALENDAR
VERSION:2.0
PRODID:-//mWEB//NONSGML mWEB//NB
URL:https://www.credofrikirke.no/kalender/ics
X-WR-CALNAME:Credo Frikirke
REFRESH-INTERVAL;VALUE=DURATION:PT6H
X-PUBLISHED-TTL:PT6H    
CALSCALE:GREGORIAN
BEGIN:VEVENT
UID:credofrikirke.no-2156
DTSTAMP:20260423T160937Z
DTSTART:20251111T170000Z
DTEND:20251111T200000Z
URL:https://www.credofrikirke.no/kalender/2025/11/11/seminar-med-arne-skagen/2156/
CREATED:20251024T135533Z
LAST-MODIFIED:20251024T135533Z
SUMMARY:Seminar med Arne Skagen
DESCRIPTION:Tirsdag 11.november får vi besøk av Arne Skagen som mange vil huske fra menighetshelgen. Dette blir en flott anledning til å bli inspirert av hans store hjertesak som handler om hverdagsevangelisering.\n\n\n\n \n\nhttps://www.credofrikirke.no/kalender/2025/11/11/seminar-med-arne-skagen/2156/
END:VEVENT

END:VCALENDAR