BEGIN:VCALENDAR
VERSION:2.0
PRODID:-//mWEB//NONSGML mWEB//NB
URL:https://www.credofrikirke.no/kalender/ics
X-WR-CALNAME:Credo Frikirke
REFRESH-INTERVAL;VALUE=DURATION:PT6H
X-PUBLISHED-TTL:PT6H    
CALSCALE:GREGORIAN
BEGIN:VEVENT
UID:credofrikirke.no-2155
DTSTAMP:20260423T160222Z
DTSTART:20251109T100000Z
DTEND:20251109T120000Z
URL:https://www.credofrikirke.no/kalender/2025/11/09/sondag-for-de-forfulgte/2155/
CREATED:20251023T140159Z
LAST-MODIFIED:20251023T140159Z
SUMMARY:Søndag for de forfulgte
DESCRIPTION:\n\n\nhttps://www.credofrikirke.no/kalender/2025/11/09/sondag-for-de-forfulgte/2155/
END:VEVENT

END:VCALENDAR