BEGIN:VCALENDAR
VERSION:2.0
PRODID:-//mWEB//NONSGML mWEB//NB
URL:https://www.credofrikirke.no/kalender/ics
X-WR-CALNAME:Credo Frikirke
REFRESH-INTERVAL;VALUE=DURATION:PT6H
X-PUBLISHED-TTL:PT6H    
CALSCALE:GREGORIAN
BEGIN:VEVENT
UID:credofrikirke.no-2137
DTSTAMP:20260423T160152Z
DTSTART:20251109T100000Z
DTEND:20251109T120000Z
URL:https://www.credofrikirke.no/kalender/2025/11/09/gudstjeneste/2137/
CREATED:20250812T141033Z
LAST-MODIFIED:20251024T135258Z
SUMMARY:Gudstjeneste
DESCRIPTION:Tema: Frofulgtes søndag\nTale: Stig Magne Heitmann\n\n\n\n\nVelkommen til gudstjeneste i Credo.\n\nVi feirer gudstjeneste hver eneste søndag kl.11.00 i 2.etasje i Ole L. Kolstadsvei 2 på Heimdal. \nDu finner oss som nærmeste nabo til Cirkle K og Bunn...\n\nhttps://www.credofrikirke.no/kalender/2025/11/09/gudstjeneste/2137/
END:VEVENT

END:VCALENDAR