BEGIN:VCALENDAR
VERSION:2.0
PRODID:-//mWEB//NONSGML mWEB//NB
URL:https://www.credofrikirke.no/kalender/ics
X-WR-CALNAME:Credo Frikirke
REFRESH-INTERVAL;VALUE=DURATION:PT6H
X-PUBLISHED-TTL:PT6H    
CALSCALE:GREGORIAN
BEGIN:VEVENT
UID:credofrikirke.no-2154
DTSTAMP:20260423T163225Z
DTSTART:20251108T100000Z
DTEND:20251108T133000Z
URL:https://www.credofrikirke.no/kalender/2025/11/08/lordagsseminar-med-stig-magne-heitmann/2154/
CREATED:20251023T140015Z
LAST-MODIFIED:20251024T135044Z
SUMMARY:Lørdagsseminar med Stig Magne Heitmann
DESCRIPTION:Velkommen til lørdagsseminar med Stig Magne Heitmann. Hva lærte Jesus disiplene\, og hva lærte Paulus videre i menighetene om det hellige ekteskapet\, men også om singellivet. Stig Magne har i mange år jobbet i Åpne Dører\, men har også bakgrunn som ...\n\nhttps://www.credofrikirke.no/kalender/2025/11/08/lordagsseminar-med-stig-magne-heitmann/2154/
LOCATION:Credo Frikirke
END:VEVENT

END:VCALENDAR