BEGIN:VCALENDAR
VERSION:2.0
PRODID:-//mWEB//NONSGML mWEB//NB
URL:https://www.credofrikirke.no/kalender/ics
X-WR-CALNAME:Credo Frikirke
REFRESH-INTERVAL;VALUE=DURATION:PT6H
X-PUBLISHED-TTL:PT6H    
CALSCALE:GREGORIAN
BEGIN:VEVENT
UID:credofrikirke.no-2148
DTSTAMP:20260423T161642Z
DTSTART:20251106T180000Z
DTEND:20251106T201500Z
URL:https://www.credofrikirke.no/kalender/2025/11/06/alphakveld-6-hvordan-leder-gud/2148/
CREATED:20250919T085932Z
LAST-MODIFIED:20250919T085932Z
SUMMARY:Alphakveld 6: Hvordan leder Gud?
DESCRIPTION:Velkommen til kveld 6 av høstens Alpha. \n\nKveldens tema: HVORDAN LEDER GUD?\nBønn er både spennende\, utfordrende og kanskje litt nytt på samme tid.\n\nAlphakurset er en utrolig flott måte å utforske livets viktigste spørsmål i fellesskap med andre...\n\nhttps://www.credofrikirke.no/kalender/2025/11/06/alphakveld-6-hvordan-leder-gud/2148/
END:VEVENT

END:VCALENDAR