BEGIN:VCALENDAR
VERSION:2.0
PRODID:-//mWEB//NONSGML mWEB//NB
URL:https://www.credofrikirke.no/kalender/ics
X-WR-CALNAME:Credo Frikirke
REFRESH-INTERVAL;VALUE=DURATION:PT6H
X-PUBLISHED-TTL:PT6H    
CALSCALE:GREGORIAN
BEGIN:VEVENT
UID:credofrikirke.no-2136
DTSTAMP:20260423T161508Z
DTSTART:20251102T100000Z
DTEND:20251102T120000Z
URL:https://www.credofrikirke.no/kalender/2025/11/02/frokost-og-familiegudstjeneste/2136/
CREATED:20250812T140953Z
LAST-MODIFIED:20251024T140030Z
SUMMARY:Frokost og familiegudstjeneste
DESCRIPTION:Frokost- og familiegudstjenesten denne søndagen vil være i regi av søndagskolen. Det blir sang\, drama\, barnekor og mye mer. Diu kan glede deg. Gudstjenesten passer for alle aldersgrupper. \n\n\n\nVelkommen til gudstjeneste i Credo.\n\nVi feirer gud...\n\nhttps://www.credofrikirke.no/kalender/2025/11/02/frokost-og-familiegudstjeneste/2136/
END:VEVENT

END:VCALENDAR