BEGIN:VCALENDAR
VERSION:2.0
PRODID:-//mWEB//NONSGML mWEB//NB
URL:https://www.credofrikirke.no/kalender/ics
X-WR-CALNAME:Credo Frikirke
REFRESH-INTERVAL;VALUE=DURATION:PT6H
X-PUBLISHED-TTL:PT6H    
CALSCALE:GREGORIAN
BEGIN:VEVENT
UID:credofrikirke.no-2080
DTSTAMP:20260423T172534Z
DTSTART:20251031T160000Z
DTEND:20251031T190000Z
URL:https://www.credofrikirke.no/kalender/2025/10/31/vennersvennefest/2080/
CREATED:20250811T143133Z
LAST-MODIFIED:20251024T134950Z
SUMMARY:Vennersvennefest
DESCRIPTION:Velkommen til en alternativ Halloween-feiring. \n\n\n\nhttps://www.credofrikirke.no/kalender/2025/10/31/vennersvennefest/2080/
END:VEVENT

END:VCALENDAR