BEGIN:VCALENDAR
VERSION:2.0
PRODID:-//mWEB//NONSGML mWEB//NB
URL:https://www.credofrikirke.no/kalender/ics
X-WR-CALNAME:Credo Frikirke
REFRESH-INTERVAL;VALUE=DURATION:PT6H
X-PUBLISHED-TTL:PT6H    
CALSCALE:GREGORIAN
BEGIN:VEVENT
UID:credofrikirke.no-2145
DTSTAMP:20260423T172422Z
DTSTART:20251031T143000Z
DTEND:20251031T180000Z
URL:https://www.credofrikirke.no/kalender/2025/10/31/balpanne/2145/
CREATED:20250917T150331Z
LAST-MODIFIED:20250917T150331Z
SUMMARY:Bålpanne
DESCRIPTION:Velkommen til bålpanne iforbindelse med Vennersvennefesten denne kvelden. \n\nVi samles kl.15.30 for rigging og bønn.\n\nhttps://www.credofrikirke.no/kalender/2025/10/31/balpanne/2145/
LOCATION:Credohjørnet
END:VEVENT

END:VCALENDAR