BEGIN:VCALENDAR
VERSION:2.0
PRODID:-//mWEB//NONSGML mWEB//NB
URL:https://www.credofrikirke.no/kalender/ics
X-WR-CALNAME:Credo Frikirke
REFRESH-INTERVAL;VALUE=DURATION:PT6H
X-PUBLISHED-TTL:PT6H    
CALSCALE:GREGORIAN
BEGIN:VEVENT
UID:credofrikirke.no-2057
DTSTAMP:20260423T173331Z
DTSTART:20251030T180000Z
DTEND:20251030T201500Z
URL:https://www.credofrikirke.no/kalender/2025/10/30/alphakveld-5-hvorfor-og-hvordan-lese-bibelen/2057/
CREATED:20250811T141521Z
LAST-MODIFIED:20250919T085719Z
SUMMARY:Alphakveld 5: Hvorfor og hvordan lese Bibelen?
DESCRIPTION:Velkommen til kveld 5 av høstens Alpha. \n\nKveldens tema: HVORFOR OG HVORDAN LESE BIBELEN?\nBønn er både spennende\, utfordrende og kanskje litt nytt på samme tid.\n\nAlphakurset er en utrolig flott måte å utforske livets viktigste spørsmål i felles...\n\nhttps://www.credofrikirke.no/kalender/2025/10/30/alphakveld-5-hvorfor-og-hvordan-lese-bibelen/2057/
END:VEVENT

END:VCALENDAR