BEGIN:VCALENDAR
VERSION:2.0
PRODID:-//mWEB//NONSGML mWEB//NB
URL:https://www.credofrikirke.no/kalender/ics
X-WR-CALNAME:Credo Frikirke
REFRESH-INTERVAL;VALUE=DURATION:PT6H
X-PUBLISHED-TTL:PT6H    
CALSCALE:GREGORIAN
BEGIN:VEVENT
UID:credofrikirke.no-2157
DTSTAMP:20260423T172851Z
DTSTART:20251026T100000Z
DTEND:20251026T120000Z
URL:https://www.credofrikirke.no/kalender/2025/10/26/husk-a-stille-klokken/2157/
CREATED:20251024T140523Z
LAST-MODIFIED:20251024T140523Z
SUMMARY:Husk å stille klokken
DESCRIPTION:Natt til søndag 26.10. er det tid for å stille klokken og kroppen fra sommertid til vintertid. Husk at du alltid stiller klokken MOT SOMMEREN\; dvs om våren frem mot sommeren\, og om høsten tilbake mot sommeren.\n\n\n\n \n\nhttps://www.credofrikirke.no/kalender/2025/10/26/husk-a-stille-klokken/2157/
END:VEVENT

END:VCALENDAR