BEGIN:VCALENDAR
VERSION:2.0
PRODID:-//mWEB//NONSGML mWEB//NB
URL:https://www.credofrikirke.no/kalender/ics
X-WR-CALNAME:Credo Frikirke
REFRESH-INTERVAL;VALUE=DURATION:PT6H
X-PUBLISHED-TTL:PT6H    
CALSCALE:GREGORIAN
BEGIN:VEVENT
UID:credofrikirke.no-2058
DTSTAMP:20260423T172714Z
DTSTART:20251026T100000Z
DTEND:20251026T113000Z
URL:https://www.credofrikirke.no/kalender/2025/10/26/gudstjeneste/2058/
CREATED:20250811T141650Z
LAST-MODIFIED:20251024T134902Z
SUMMARY:Gudstjeneste
DESCRIPTION:Tema: Mannens som trosset frykten i Nikea i 325 e.Kr\nTaler: Adrian Summerson\n\n\nVelkommen til gudstjeneste i Credo.\n\nVi feirer gudstjeneste hver eneste søndag kl.11.00 i 2.etasje i Ole L. Kolstadsvei 2 på Heimdal. \nDu finner oss som nærmeste na...\n\nhttps://www.credofrikirke.no/kalender/2025/10/26/gudstjeneste/2058/
END:VEVENT

END:VCALENDAR