BEGIN:VCALENDAR
VERSION:2.0
PRODID:-//mWEB//NONSGML mWEB//NB
URL:https://www.credofrikirke.no/kalender/ics
X-WR-CALNAME:Credo Frikirke
REFRESH-INTERVAL;VALUE=DURATION:PT6H
X-PUBLISHED-TTL:PT6H    
CALSCALE:GREGORIAN
BEGIN:VEVENT
UID:credofrikirke.no-2056
DTSTAMP:20260423T173124Z
DTSTART:20251023T170000Z
DTEND:20251023T191500Z
URL:https://www.credofrikirke.no/kalender/2025/10/23/alphakveld-4-hvorfor-og-hvordan-be/2056/
CREATED:20250811T140631Z
LAST-MODIFIED:20250919T085528Z
SUMMARY:Alphakveld 4: Hvorfor og hvordan be?
DESCRIPTION:Velkommen til kveld 4av høstens Alpha. \n\nKveldens tema: HVORFOR OG HVORDAN BE?\nBønn er både spennende\, utfordrende og kanskje litt nytt på samme tid.\n\nAlphakurset er en utrolig flott måte å utforske livets viktigste spørsmål i fellesskap med an...\n\nhttps://www.credofrikirke.no/kalender/2025/10/23/alphakveld-4-hvorfor-og-hvordan-be/2056/
END:VEVENT

END:VCALENDAR