BEGIN:VCALENDAR
VERSION:2.0
PRODID:-//mWEB//NONSGML mWEB//NB
URL:https://www.credofrikirke.no/kalender/ics
X-WR-CALNAME:Credo Frikirke
REFRESH-INTERVAL;VALUE=DURATION:PT6H
X-PUBLISHED-TTL:PT6H    
CALSCALE:GREGORIAN
BEGIN:VEVENT
UID:credofrikirke.no-2127
DTSTAMP:20260423T172611Z
DTSTART:20251021T080000Z
DTEND:20251021T100000Z
URL:https://www.credofrikirke.no/kalender/2025/10/21/bibelbonn-med-lunsj/2127/
CREATED:20250812T135931Z
LAST-MODIFIED:20250812T135931Z
SUMMARY:Bibelbønn med lunsj
DESCRIPTION:Hver tirsdag ønsker vi velkommen til Bibelbønn kombinert med medbrakt lunsj. Her blir det lovsang\, bibelbønn og bønn for alle bønnebehovene som vi henter fra bønnekassen. Formiddagen avsluttes med mat og prat. Lunsjen og bønnen er åpen for alle. Hus...\n\nhttps://www.credofrikirke.no/kalender/2025/10/21/bibelbonn-med-lunsj/2127/
END:VEVENT

END:VCALENDAR