BEGIN:VCALENDAR
VERSION:2.0
PRODID:-//mWEB//NONSGML mWEB//NB
URL:https://www.credofrikirke.no/kalender/ics
X-WR-CALNAME:Credo Frikirke
REFRESH-INTERVAL;VALUE=DURATION:PT6H
X-PUBLISHED-TTL:PT6H    
CALSCALE:GREGORIAN
BEGIN:VEVENT
UID:credofrikirke.no-2055
DTSTAMP:20260423T173737Z
DTSTART:20251016T170000Z
DTEND:20251016T191500Z
URL:https://www.credofrikirke.no/kalender/2025/10/16/alphakveld-3-hvordan-kan-jeg-tro/2055/
CREATED:20250811T140427Z
LAST-MODIFIED:20250919T085451Z
SUMMARY:Alphakveld 3: Hvordan kan jeg tro?
DESCRIPTION:Velkommen til kveld 3 av høstens Alpha. \n\nKveldens tema handler om HVORDAN KAN JEG TRO?\n\nAlphakurset er en utrolig flott måte å utforske livets viktigste spørsmål i fellesskap med andre. Kurset går over 10 uker og er åpen for alle. Kurset er grat...\n\nhttps://www.credofrikirke.no/kalender/2025/10/16/alphakveld-3-hvordan-kan-jeg-tro/2055/
END:VEVENT

END:VCALENDAR