BEGIN:VCALENDAR
VERSION:2.0
PRODID:-//mWEB//NONSGML mWEB//NB
URL:https://www.credofrikirke.no/kalender/ics
X-WR-CALNAME:Credo Frikirke
REFRESH-INTERVAL;VALUE=DURATION:PT6H
X-PUBLISHED-TTL:PT6H    
CALSCALE:GREGORIAN
BEGIN:VEVENT
UID:credofrikirke.no-2049
DTSTAMP:20260423T172402Z
DTSTART:20251012T090000Z
DTEND:20251012T110000Z
URL:https://www.credofrikirke.no/kalender/2025/10/12/tomasmesse/2049/
CREATED:20250811T134336Z
LAST-MODIFIED:20250811T134336Z
SUMMARY:Tomasmesse
DESCRIPTION:Velkommen til TOMASMESSE i Credo.\n\nVi feirer gudstjeneste hver eneste søndag kl.11.00 i 2.etasje i Ole L. Kolstadsvei 2 på Heimdal. \n\nTomasmesse er en flott og annerledes vandregudstjeneste som passer for alle aldersgrupper.\nDu finner oss som næ...\n\nhttps://www.credofrikirke.no/kalender/2025/10/12/tomasmesse/2049/
LOCATION:Credo Frikirke
END:VEVENT

END:VCALENDAR