BEGIN:VCALENDAR
VERSION:2.0
PRODID:-//mWEB//NONSGML mWEB//NB
URL:https://www.credofrikirke.no/kalender/ics
X-WR-CALNAME:Credo Frikirke
REFRESH-INTERVAL;VALUE=DURATION:PT6H
X-PUBLISHED-TTL:PT6H    
CALSCALE:GREGORIAN
BEGIN:VEVENT
UID:credofrikirke.no-2054
DTSTAMP:20260423T172443Z
DTSTART:20251009T170000Z
DTEND:20251009T190000Z
URL:https://www.credofrikirke.no/kalender/2025/10/09/alpha-har-hostferie/2054/
CREATED:20250811T140258Z
LAST-MODIFIED:20250811T140258Z
SUMMARY:Alpha har høstferie
DESCRIPTION:I kveld blir det dessverre ingen Alpha. Vi følger skoleruten og legger inn en velfortjent høstferie. \n\nhttps://www.credofrikirke.no/kalender/2025/10/09/alpha-har-hostferie/2054/
END:VEVENT

END:VCALENDAR