BEGIN:VCALENDAR
VERSION:2.0
PRODID:-//mWEB//NONSGML mWEB//NB
URL:https://www.credofrikirke.no/kalender/ics
X-WR-CALNAME:Credo Frikirke
REFRESH-INTERVAL;VALUE=DURATION:PT6H
X-PUBLISHED-TTL:PT6H    
CALSCALE:GREGORIAN
BEGIN:VEVENT
UID:credofrikirke.no-2053
DTSTAMP:20260423T172823Z
DTSTART:20251002T170000Z
DTEND:20251002T191500Z
URL:https://www.credofrikirke.no/kalender/2025/10/02/alphakveld-2-hvorfor-dode-jesus/2053/
CREATED:20250811T140149Z
LAST-MODIFIED:20250919T085411Z
SUMMARY:Alphakveld 2: Hvorfor døde Jesus
DESCRIPTION:Velkommen til kveld 2 av høstens Alpha. \n\nDette er siste åpne kveld. Etter denne kvelden må vi dessverre lukke kurset. Neste kurs starter i midten av januar 2026. Husk påmelding på SMS til 48095929\n\nVelkommen til oppstart av høsten Alpha. \n\nAlp...\n\nhttps://www.credofrikirke.no/kalender/2025/10/02/alphakveld-2-hvorfor-dode-jesus/2053/
END:VEVENT

END:VCALENDAR