BEGIN:VCALENDAR
VERSION:2.0
PRODID:-//mWEB//NONSGML mWEB//NB
URL:https://www.credofrikirke.no/kalender/ics
X-WR-CALNAME:Credo Frikirke
REFRESH-INTERVAL;VALUE=DURATION:PT6H
X-PUBLISHED-TTL:PT6H    
CALSCALE:GREGORIAN
BEGIN:VEVENT
UID:credofrikirke.no-2040
DTSTAMP:20260423T184934Z
DTSTART:20250930T080000Z
DTEND:20250930T100000Z
URL:https://www.credofrikirke.no/kalender/2025/09/30/bibelbonn-med-lunsj/2040/
CREATED:20250809T194609Z
LAST-MODIFIED:20250812T135407Z
SUMMARY:Bibelbønn med lunsj
DESCRIPTION:Hver tirsdag ønsker vi velkommen til Bibelbønn kombinert med medbrakt lunsj. Her blir det lovsang\, bibelbønn og bønn for alle bønnebehovene som vi henter fra bønnekassen. Formiddagen avsluttes med mat og prat. Lunsjen og bønnen er åpen for alle. Hus...\n\nhttps://www.credofrikirke.no/kalender/2025/09/30/bibelbonn-med-lunsj/2040/
LOCATION:Credo Frikirke
END:VEVENT

END:VCALENDAR