BEGIN:VCALENDAR
VERSION:2.0
PRODID:-//mWEB//NONSGML mWEB//NB
URL:https://www.credofrikirke.no/kalender/ics
X-WR-CALNAME:Credo Frikirke
REFRESH-INTERVAL;VALUE=DURATION:PT6H
X-PUBLISHED-TTL:PT6H    
CALSCALE:GREGORIAN
BEGIN:VEVENT
UID:credofrikirke.no-2051
DTSTAMP:20260423T184847Z
DTSTART:20250918T170000Z
DTEND:20250918T193000Z
URL:https://www.credofrikirke.no/kalender/2025/09/18/velkommen-til-alphamiddag/2051/
CREATED:20250811T135409Z
LAST-MODIFIED:20250811T140718Z
SUMMARY:Velkommen til Alphamiddag
DESCRIPTION:\n\n\nhttps://www.credofrikirke.no/kalender/2025/09/18/velkommen-til-alphamiddag/2051/
LOCATION:Credo Frikirke
END:VEVENT

END:VCALENDAR