BEGIN:VCALENDAR
VERSION:2.0
PRODID:-//mWEB//NONSGML mWEB//NB
URL:https://www.credofrikirke.no/kalender/ics
X-WR-CALNAME:Credo Frikirke
REFRESH-INTERVAL;VALUE=DURATION:PT6H
X-PUBLISHED-TTL:PT6H    
CALSCALE:GREGORIAN
BEGIN:VEVENT
UID:credofrikirke.no-2079
DTSTAMP:20260423T184750Z
DTSTART:20250906T090000Z
DTEND:20250906T123000Z
URL:https://www.credofrikirke.no/kalender/2025/09/06/balpanne/2079/
CREATED:20250811T142950Z
LAST-MODIFIED:20250917T150104Z
SUMMARY:Bålpanne
DESCRIPTION:Velkommen til bålpanne på Credohjørnet. Vi møtes til bønn og briefing og rigging kl.11.\n\nhttps://www.credofrikirke.no/kalender/2025/09/06/balpanne/2079/
END:VEVENT

END:VCALENDAR