BEGIN:VCALENDAR
VERSION:2.0
PRODID:-//mWEB//NONSGML mWEB//NB
URL:https://www.credofrikirke.no/kalender/ics
X-WR-CALNAME:Credo Frikirke
REFRESH-INTERVAL;VALUE=DURATION:PT6H
X-PUBLISHED-TTL:PT6H    
CALSCALE:GREGORIAN
BEGIN:VEVENT
UID:credofrikirke.no-2014
DTSTAMP:20260425T113854Z
DTSTART:20250727T170000Z
DTEND:20250727T193000Z
URL:https://www.credofrikirke.no/kalender/2025/07/27/sommermote-i-credo-frikirke/2014/
CREATED:20250628T185306Z
LAST-MODIFIED:20250628T185306Z
SUMMARY:Sommermøte i Credo Frikirke
DESCRIPTION:Hver søndagskveld gjennom sommeren inviterer vi til husmøter eller sommermøter. Mens husmøtene holdes i private hjem\, er Sommermøtene i Credo frikirke på Heimdal. Alle møtene er åpne for alle og varer fra kl.19.00 til 21.30  Disse sommersamlingene e...\n\nhttps://www.credofrikirke.no/kalender/2025/07/27/sommermote-i-credo-frikirke/2014/
END:VEVENT

END:VCALENDAR