BEGIN:VCALENDAR
VERSION:2.0
PRODID:-//mWEB//NONSGML mWEB//NB
URL:https://www.credofrikirke.no/kalender/ics
X-WR-CALNAME:Credo Frikirke
REFRESH-INTERVAL;VALUE=DURATION:PT6H
X-PUBLISHED-TTL:PT6H    
CALSCALE:GREGORIAN
BEGIN:VEVENT
UID:credofrikirke.no-2016
DTSTAMP:20260425T113859Z
DTSTART:20250720T170000Z
DTEND:20250720T193000Z
URL:https://www.credofrikirke.no/kalender/2025/07/20/husmote-hos-familien-aas/2016/
CREATED:20250628T222156Z
LAST-MODIFIED:20250628T222156Z
SUMMARY:Husmøte hos familien Aas
DESCRIPTION:Hver søndagskveld gjennom sommeren inviterer vi til husmøter eller sommermøter. Mens husmøtene holdes i private hjem\, er Sommermøtene i Credo frikirke på Heimdal. Alle møtene er åpne for alle og varer fra kl.19.00 til 21.30  Disse sommersamlingene e...\n\nhttps://www.credofrikirke.no/kalender/2025/07/20/husmote-hos-familien-aas/2016/
LOCATION:Øverfossveien 58\, Sjetnemarka
END:VEVENT

END:VCALENDAR