BEGIN:VCALENDAR
VERSION:2.0
PRODID:-//mWEB//NONSGML mWEB//NB
URL:https://www.credofrikirke.no/kalender/ics
X-WR-CALNAME:Credo Frikirke
REFRESH-INTERVAL;VALUE=DURATION:PT6H
X-PUBLISHED-TTL:PT6H    
CALSCALE:GREGORIAN
BEGIN:VEVENT
UID:credofrikirke.no-2012
DTSTAMP:20260425T113802Z
DTSTART:20250706T170000Z
DTEND:20250706T193000Z
URL:https://www.credofrikirke.no/kalender/2025/07/06/sommermote-i-credo-frikirke/2012/
CREATED:20250628T184943Z
LAST-MODIFIED:20250628T184943Z
SUMMARY:Sommermøte i Credo Frikirke
DESCRIPTION:Hver søndagskveld gjennom sommeren inviterer vi til husmøter eller sommermøter. Mens husmøtene holdes i private hjem\, er Sommermøtene i Credo frikirke på Heimdal. Alle møtene er åpne for alle og varer fra kl.19.00 til 21.30  Disse sommersamlingene e...\n\nhttps://www.credofrikirke.no/kalender/2025/07/06/sommermote-i-credo-frikirke/2012/
LOCATION:Credo Frikirke
END:VEVENT

END:VCALENDAR