BEGIN:VCALENDAR
VERSION:2.0
PRODID:-//mWEB//NONSGML mWEB//NB
URL:https://www.credofrikirke.no/kalender/ics
X-WR-CALNAME:Credo Frikirke
REFRESH-INTERVAL;VALUE=DURATION:PT6H
X-PUBLISHED-TTL:PT6H    
CALSCALE:GREGORIAN
BEGIN:VEVENT
UID:credofrikirke.no-2020
DTSTAMP:20260425T113752Z
DTSTART:20250701T080000Z
DTEND:20250701T100000Z
URL:https://www.credofrikirke.no/kalender/2025/07/01/bibelbonn-med-lunsj-i-sommer/2020/
CREATED:20250628T224816Z
LAST-MODIFIED:20250628T224816Z
SUMMARY:Bibelbønn med lunsj i sommer
DESCRIPTION:I sommer inviterer vi  til Bibelbønn hjemme hos de som står på listen under. Møtene starter med bibellesning og bønn kl 10.00 og varer i ca 1 time. Deretter serverer vi lunsj der vi er. Det pleier å være veldig fine samvær sammen med Jesus og hverand...\n\nhttps://www.credofrikirke.no/kalender/2025/07/01/bibelbonn-med-lunsj-i-sommer/2020/
END:VEVENT

END:VCALENDAR