BEGIN:VCALENDAR
VERSION:2.0
PRODID:-//mWEB//NONSGML mWEB//NB
URL:https://www.credofrikirke.no/kalender/ics
X-WR-CALNAME:Credo Frikirke
REFRESH-INTERVAL;VALUE=DURATION:PT6H
X-PUBLISHED-TTL:PT6H    
CALSCALE:GREGORIAN
BEGIN:VEVENT
UID:credofrikirke.no-2011
DTSTAMP:20260425T132052Z
DTSTART:20250629T170000Z
DTEND:20250629T193000Z
URL:https://www.credofrikirke.no/kalender/2025/06/29/sommermote-i-credo-frikirke/2011/
CREATED:20250628T184727Z
LAST-MODIFIED:20250628T222625Z
SUMMARY:Sommermøte i Credo Frikirke
DESCRIPTION:Hver søndagskveld gjennom sommeren inviterer vi til husmøter eller sommermøter. Mens husmøtene holdes i private hjem\, er Sommermøtene i Credo frikirke på Heimdal. Alle møtene er åpne for alle og varer fra kl.19.00 til 21.30  Disse sommersamlingene e...\n\nhttps://www.credofrikirke.no/kalender/2025/06/29/sommermote-i-credo-frikirke/2011/
LOCATION:Credo Frikirke\, Ole L. Kolstadsvei 2
END:VEVENT

END:VCALENDAR